BEGIN:VCALENDAR
VERSION:2.0
PRODID:-//wp-events-plugin.com//7.2.3.1//EN
TZID:Indian/Reunion
X-WR-TIMEZONE:Indian/Reunion
BEGIN:VEVENT
UID:8@formation-suf.com
DTSTART;TZID=Europe/Paris;VALUE=DATE:20250811
DTEND;TZID=Europe/Paris;VALUE=DATE:20250822
DTSTAMP:20250813T123147Z
URL:https://formation-suf.com/events/jeu-de-lete-insta/
SUMMARY:Jeu de l'Eté Insta
DESCRIPTION:Tente de gagner 2 places d'Escape Game à ESCAPE YOURSELF en r
 épondant à notre énigme sur notre page Insta\nhttps://www.instagram.com
 /standup_formation_fr\n\n 	Follow notre page\n 	Répond à l'énigme\n 	Li
 ke le post\n\nTirage au sort parmi les bonnes réponses le 22 AOUT\nBonne 
 chance
ATTACH;FMTTYPE=image/jpeg:https://formation-suf.com/wp-content/uploads/202
 5/08/Outlook-akdeomco.png
CATEGORIES:Réseaux Sociaux
LOCATION:https://www.instagram.com/standup_formation_fr
END:VEVENT
BEGIN:VTIMEZONE
TZID:Europe/Paris
X-LIC-LOCATION:Europe/Paris
BEGIN:DAYLIGHT
DTSTART:20250330T030000
TZOFFSETFROM:+0100
TZOFFSETTO:+0200
TZNAME:CEST
END:DAYLIGHT
END:VTIMEZONE
END:VCALENDAR